BEGIN:VCALENDAR
VERSION:2.0
PRODID:-//J&amp;K - ECPv6.8.3//NONSGML v1.0//EN
CALSCALE:GREGORIAN
METHOD:PUBLISH
X-WR-CALNAME:J&amp;K
X-ORIGINAL-URL:http://jk-training.de
X-WR-CALDESC:Veranstaltungen für J&amp;K
REFRESH-INTERVAL;VALUE=DURATION:PT1H
X-Robots-Tag:noindex
X-PUBLISHED-TTL:PT1H
BEGIN:VTIMEZONE
TZID:Europe/Berlin
BEGIN:DAYLIGHT
TZOFFSETFROM:+0100
TZOFFSETTO:+0200
TZNAME:CEST
DTSTART:20220327T010000
END:DAYLIGHT
BEGIN:STANDARD
TZOFFSETFROM:+0200
TZOFFSETTO:+0100
TZNAME:CET
DTSTART:20221030T010000
END:STANDARD
END:VTIMEZONE
BEGIN:VEVENT
DTSTART;TZID=Europe/Berlin:20220903T090000
DTEND;TZID=Europe/Berlin:20220903T160000
DTSTAMP:20260425T150924
CREATED:20220814T195201Z
LAST-MODIFIED:20220816T101736Z
UID:332-1662195600-1662220800@jk-training.de
SUMMARY:Kreative Bodenarbeit
DESCRIPTION:Wer uns kennt weiß\, dass wir absolute Bodenarbeitsfans sind. Unser Trainingskonzept fußt darauf\, Übungen vom Boden aus zu erarbeiten. Nicht nur als Vorbereitung aufs Reiten\, sondern viel mehr als stabile Konstante im Trainingsalltag.\nAm Seminartag wollen wir dir einen Einblick in unsere Arbeitsweise geben. Wir zeigen dir\, wie du mit wenig und günstigem Material effektive Übungen aufbauen und diese im Alltag gewinnbringend einsetzen kannst.\nWir stellen uns der Frage: „Warum ist es sinnvoll\, die Bodenarbeit in den Trainingsalltag einzubauen?“ und zeigen dir\, wie sich Übungen hierzu mit Spaß und Abwechslung für dich und dein Pferd ganz einfach in deine tägliche Stallroutine integrieren lassen.\nEin bunter Mix aus biomechanischen-\, gymnastischen- und bindungsaufbauenden Übungen erwartet dich. Das Niveau der einzelnen Übungen lässt sich dabei individuell an deine Pferd-Mensch-Konstellation anpassen.\nEs sind zwei Praxiseinheiten pro Teilnehmer eingeplant. Teilnehmer ohne Pferd werden aktiv eingebunden so dass auch in dieser Form viel Input möglich ist.\nFür jedes Gastpferd ist ein Paddock mit Wasser und Heu abgezäunt\, so dass kleine Ruhepausen eingelegt werden können. \nWir beginnen um 9:00 Uhr morgens. Für ein kleines Mittagessen bestellen wir bei einem Lieferservice oder du bringst dir selbst was mit. Getränke bitte selbst mitbringen.\nDas Seminar findet in 94163 Saldenburg/Preying statt. Der Veranstaltungsort ist ein wunderschöngelegener Wiesenreitplatz\, den man sehr gut mit dem Hängern anfahren kann. Leider macht uns das auch etwas wetterabhängig. Sollte der Termin aufgrund einer sehr schlechten Wetterlage verschoben werden müssen\, ist dafür das darauffolgende Wochenende vorgesehen.\nPreis für Teilnehmer mit eigenem Pferd (inkl. Verpflegung und Paddock fürs Pferd) 149 €\nPreis für Teilnehmer ohne Pferd 80 €
URL:http://jk-training.de/event/kreative-bodenarbeit/
LOCATION:Preying\, Saldenburg\, 94136\, Deutschland
CATEGORIES:Bodenarbeit
ATTACH;FMTTYPE=image/jpeg:http://jk-training.de/wp-content/uploads/2022/08/OF_0652-pferd-YvonneObermuellerFotografie-Bearbeitet.jpg
ORGANIZER;CN="JK-Training":MAILTO:info@jk-training.de
END:VEVENT
END:VCALENDAR