BEGIN:VCALENDAR
VERSION:2.0
PRODID:-//J&amp;K - ECPv6.8.3//NONSGML v1.0//EN
CALSCALE:GREGORIAN
METHOD:PUBLISH
X-ORIGINAL-URL:http://jk-training.de
X-WR-CALDESC:Veranstaltungen für J&amp;K
REFRESH-INTERVAL;VALUE=DURATION:PT1H
X-Robots-Tag:noindex
X-PUBLISHED-TTL:PT1H
BEGIN:VTIMEZONE
TZID:Europe/Berlin
BEGIN:DAYLIGHT
TZOFFSETFROM:+0100
TZOFFSETTO:+0200
TZNAME:CEST
DTSTART:20220327T010000
END:DAYLIGHT
BEGIN:STANDARD
TZOFFSETFROM:+0200
TZOFFSETTO:+0100
TZNAME:CET
DTSTART:20221030T010000
END:STANDARD
END:VTIMEZONE
BEGIN:VEVENT
DTSTART;TZID=Europe/Berlin:20221102T180000
DTEND;TZID=Europe/Berlin:20221102T193000
DTSTAMP:20260423T220106
CREATED:20220816T103729Z
LAST-MODIFIED:20220816T103932Z
UID:584-1667412000-1667417400@jk-training.de
SUMMARY:Online Themenabend: Sicher im Gelände
DESCRIPTION:Online Themenabend 02.11.2022\nAls Freizeitreiterinnen sind wir viel im Gelände unterwegs und beschäftigen uns mit den Themen Geländesicherheit und Geländetraining. Mit den Mitgliedern unserer mobilen Trainingsfamilie halten wir regelmäßig Gelände-Einheiten ab und haben daher nicht nur eine Menge Erfahrung\, sondern auch viele anschauliche Beispiele von denen wir erzählen. So wird auch dieser Themaabend wie gewohnt locker und unterhaltsam gestaltet. Ebenfalls haben wir wieder eine anschauliche Präsentation die das Programm einrahmt.\nDer Themenabend findet am Mittwoch den 02.11.2022 um 18:00 Uhr statt\, Dauer ca 90 Minuten. Thema des Abends: Sicher im Gelände \nPreis 15 Euro \nWenn du Lust hast dabei zu sein melde dich gerne bei uns  unter: info@jk-training.de oder auf einem unserer Social Media Kanäle.\nDer Abend findet virtuell statt. Über einen Link\, den wir dir zusenden kannst du bequem von Zuhause aus teilnehmen. Du kannst auch wären die Versammlung läuft dazukommen oder aussteigen das ist ganz dir überlassen.
URL:http://jk-training.de/event/online-themenabend-sicher-im-gelaende/
ATTACH;FMTTYPE=image/jpeg:http://jk-training.de/wp-content/uploads/2022/08/244715530_715921482662277_8018199256095467069_n.jpg
END:VEVENT
END:VCALENDAR