BEGIN:VCALENDAR
VERSION:2.0
PRODID:-//J&amp;K - ECPv6.8.3//NONSGML v1.0//EN
CALSCALE:GREGORIAN
METHOD:PUBLISH
X-WR-CALNAME:J&amp;K
X-ORIGINAL-URL:http://jk-training.de
X-WR-CALDESC:Veranstaltungen für J&amp;K
REFRESH-INTERVAL;VALUE=DURATION:PT1H
X-Robots-Tag:noindex
X-PUBLISHED-TTL:PT1H
BEGIN:VTIMEZONE
TZID:Europe/Berlin
BEGIN:DAYLIGHT
TZOFFSETFROM:+0100
TZOFFSETTO:+0200
TZNAME:CEST
DTSTART:20240331T010000
END:DAYLIGHT
BEGIN:STANDARD
TZOFFSETFROM:+0200
TZOFFSETTO:+0100
TZNAME:CET
DTSTART:20241027T010000
END:STANDARD
END:VTIMEZONE
BEGIN:VEVENT
DTSTART;TZID=Europe/Berlin:20240907T090000
DTEND;TZID=Europe/Berlin:20240907T160000
DTSTAMP:20260423T123548
CREATED:20240508T185034Z
LAST-MODIFIED:20240508T185110Z
UID:788-1725699600-1725724800@jk-training.de
SUMMARY:Kreativ Longieren
DESCRIPTION:Kreativ Longieren mit Julia & Krissi von “J&K Training für Pferd und Reiter” am Samstag den 07.09.2024\n\nPassend zu unserem Bestseller Seminar „kreative Bodenarbeit“ haben sich einige ein Seminar zum Longieren gewünscht\, also gibt es in diesem Jahr erstmals das Seminar „kreativ Longieren“.\nWie immer starten wir mit etwas Theorie in den Tag und dann geht’s ab ans Pferd. Wir zeigen dir\, wie du dein Pferd abwechslungsreich und dem eurem Niveau angepasst longieren kannst. Dabei setzen wir nicht nur unterschiedliche Materialien ein\, sondern zeigen dir auch Lösungsansätze für die Herausforderungen die bei dieser Art des Trainings auf dich zukommen. Das Seminar ist für alle Pferde und Reitertypen geeignet. Ob du nun neue Ideen für deinen Trainingsalltag suchst oder erst mit dem Longieren beginnen willst\, wir passen die Praxis-Einheiten an dich und dein Pferd an.\nDu lernst:\n… passende Übungen für dich und dein Pferd kennen und auszuwählen.… dein Pferd in seiner natürlichen Bewegung zu unterstützen.… dich einzuschätzen und Fehler selbst zu korrigieren.… diese Art der Arbeit kreativ in deinen Trainingsalltag zu integrieren.… Lösungswege für die Herausforderungen beim Longieren kennen.\n\nAn diesem Seminar kannst du mit oder ohne Pferd teilnehmen. Alles was du brauchst\, ist gute Laune und etwas zu trinken. Um einen kleinen Snack zum Mittag kümmern wir uns.\nPreis für\nTeilnehmer mit Pferd: 149\,00 €Teilnehmer ohne Pferd: 95\,00 €\nWir freuen uns auf Dich!\nJulia & Krissi
URL:http://jk-training.de/event/kreativ-longieren/
ORGANIZER;CN="JK-Training":MAILTO:info@jk-training.de
END:VEVENT
END:VCALENDAR