BEGIN:VCALENDAR
VERSION:2.0
PRODID:-//J&amp;K - ECPv6.8.3//NONSGML v1.0//EN
CALSCALE:GREGORIAN
METHOD:PUBLISH
X-ORIGINAL-URL:http://jk-training.de
X-WR-CALDESC:Veranstaltungen für J&amp;K
REFRESH-INTERVAL;VALUE=DURATION:PT1H
X-Robots-Tag:noindex
X-PUBLISHED-TTL:PT1H
BEGIN:VTIMEZONE
TZID:Europe/Berlin
BEGIN:DAYLIGHT
TZOFFSETFROM:+0100
TZOFFSETTO:+0200
TZNAME:CEST
DTSTART:20230326T010000
END:DAYLIGHT
BEGIN:STANDARD
TZOFFSETFROM:+0200
TZOFFSETTO:+0100
TZNAME:CET
DTSTART:20231029T010000
END:STANDARD
END:VTIMEZONE
BEGIN:VEVENT
DTSTART;TZID=Europe/Berlin:20230812T090000
DTEND;TZID=Europe/Berlin:20230812T160000
DTSTAMP:20260424T111058
CREATED:20221217T213458Z
LAST-MODIFIED:20230331T192420Z
UID:622-1691830800-1691856000@jk-training.de
SUMMARY:Kreative Bodenarbeit am 12.08.2023
DESCRIPTION:Kreative Bodenarbeit mit Julia und Krissi von „J&K Training für Pferd und Reiter“ am Samstag\, den 12.08.2023 \nWie der Name des Seminars schon verrät\, wird es an diesem Tag kreativ. Wir wollen dich an unserer Art mit Pferden zu arbeiten teilhaben lassen\, zeigen dir einige unserer Lieblingsübungen und wie du gemeinsam mit einem Pferd die richtigen Übungen für euch finden kannst. \nEin bunter Mix aus biomechanischen-\, gymnastischen- und bindungsaufbauenden Übungen erwartet dich. Das Niveau der einzelnen Übungen lässt sich dabei individuell an deine Pferd-Mensch-Konstellation anpassen. \n  \nAblauf: \n⏰️ Gemeinsamer Theorieteil \n(Trainingsaufbau\, Signaleinsatz \nund Lob) \n⏰️ Erkunden und Erläutern der \nHindernisse und Übungen \n⏰️ Praxiseinheit mit dem Pferd \n🍕 Gemeinsame Mittagspause \n⏰️ Praxiseinheit mit dem Pferd \n⏰️ Gemeinsames Feedback- und \nAbschlussfragerunde \n  \nTeilnehmerinnen\, die ohne eigenes Pferd kommen\, werden von uns aktiv eingebunden und haben die Möglichkeit die Hindernisse und Übungen mit unseren Pferden zu erarbeiten. So lässt sich das erlernte zuhause mit dem eigenen Pferd besser nacharbeiten. Wir haben in den vergangenen Seminaren oft gehört\, wie interessant es war\, auch mal mit einem anderen Pferd zu tun zu haben. \n  \nDas Seminar findet auf unserem Hof in Lämmersreut / Waldkirchen statt. \nFür jedes Gastpferd ist ein Paddock mit Wasser und Heu abgezäunt\, so dass kleine Ruhepausen eingelegt werden können. \nWir beginnen um 9:00 Uhr morgens . Für ein kleines Mittagessen bestellen wir bei einem Lieferservice oder du bringst dir selbst was mit. Getränke bitte selbst mitbringen. \nPreis für \nTeilnehmer mit Pferd 149 Euro \nTeilnehmer ohne Pferd 95 Euro \n  \nAnmeldung und Fragen unter der Email: info@jk-training.de oder unter 0151/70167572 \nWir freuen uns auf Dich! \n  \nJulia und Krissi \n 
URL:http://jk-training.de/event/kreative-bodenarbeit-am-12-08-2023/
ORGANIZER;CN="JK-Training":MAILTO:info@jk-training.de
END:VEVENT
END:VCALENDAR