BEGIN:VCALENDAR
VERSION:2.0
PRODID:-//J&amp;K - ECPv6.8.3//NONSGML v1.0//EN
CALSCALE:GREGORIAN
METHOD:PUBLISH
X-WR-CALNAME:J&amp;K
X-ORIGINAL-URL:http://jk-training.de
X-WR-CALDESC:Veranstaltungen für J&amp;K
REFRESH-INTERVAL;VALUE=DURATION:PT1H
X-Robots-Tag:noindex
X-PUBLISHED-TTL:PT1H
BEGIN:VTIMEZONE
TZID:Europe/Berlin
BEGIN:DAYLIGHT
TZOFFSETFROM:+0100
TZOFFSETTO:+0200
TZNAME:CEST
DTSTART:20230326T010000
END:DAYLIGHT
BEGIN:STANDARD
TZOFFSETFROM:+0200
TZOFFSETTO:+0100
TZNAME:CET
DTSTART:20231029T010000
END:STANDARD
END:VTIMEZONE
BEGIN:VEVENT
DTSTART;TZID=Europe/Berlin:20230610T090000
DTEND;TZID=Europe/Berlin:20230610T160000
DTSTAMP:20260424T155402
CREATED:20221218T173923Z
LAST-MODIFIED:20230331T192752Z
UID:632-1686387600-1686412800@jk-training.de
SUMMARY:Individualseminar am 10.06.2023
DESCRIPTION:Individualseminar mit Julia und Krissi von „J&K Training für Pferd und Reiter“ am Samstag\, den 10.06.2023 \nWer uns kennt weiß\, dass wir nicht nach Schema F arbeiten\, sondern immer Raum für Kundenwünsche\, Probleme und Anliegen lassen. \nGeplant ist ein Tagesseminar\, bei dem sich die Teilnehmerinnen ganz individuell ihrem persönlichen Trainingsbereich widmen können. \nEs wird jeweils pro Teilnehmerin zwei Einzeleinheiten geben (eine am Vormittag und eine am Nachmittag)\, bei denen du dir aussuchen kannst\, an was du arbeiten willst – oder du lässt dich überraschen und wir empfehlen dir was. \nDu kannst unter anderem Wählen aus: \n\n verschiedenen Bodenarbeitsübungen\n longieren\n Übungen der Zirzensik\nGelassenheitstraining\nFührzügelarbeit\n\nZur Einführung ins Seminar gibt’s einen kleinen Theorieteil über die Grundsätze und Lerntheorien im Pferdetraining von uns. \nDas Seminar findet voraussichtlich auf unserem Hof statt. \nFür jedes Gastpferd steht eine Box/Paddock inkl. Verpflegung zur Verfügung\, so dass kleine Ruhepausen eingelegt werden können. \nWer kein eigenes Pferd mitbringen will\, wird von uns als Teilnehmer ohne Pferd voll mit eingebunden und kann so viel Input für zu Hause mitnehmen. \nWir beginnen um 9:00 Uhr morgens . Für ein kleines Mittagessen bestellen wir bei einem Lieferservice oder du bringst dir selbst was mit. Getränke bitte selbst mitbringen. \nPreis für \nTeilnehmer mit Pferd 149 Euro\nTeilnehmer ohne Pferd 95 Euro \nAnmeldung und Fragen unter der Email: info@jk-training.de oder unter 0151/70167572 \nWir freuen uns auf Dich! \nJulia & Krissi \n  \n  \n 
URL:http://jk-training.de/event/individualseminar-am-10-06-2023/
ORGANIZER;CN="JK-Training":MAILTO:info@jk-training.de
END:VEVENT
END:VCALENDAR