BEGIN:VCALENDAR
VERSION:2.0
PRODID:-//J&amp;K - ECPv6.8.3//NONSGML v1.0//EN
CALSCALE:GREGORIAN
METHOD:PUBLISH
X-WR-CALNAME:J&amp;K
X-ORIGINAL-URL:http://jk-training.de
X-WR-CALDESC:Veranstaltungen für J&amp;K
REFRESH-INTERVAL;VALUE=DURATION:PT1H
X-Robots-Tag:noindex
X-PUBLISHED-TTL:PT1H
BEGIN:VTIMEZONE
TZID:Europe/Berlin
BEGIN:DAYLIGHT
TZOFFSETFROM:+0100
TZOFFSETTO:+0200
TZNAME:CEST
DTSTART:20230326T010000
END:DAYLIGHT
BEGIN:STANDARD
TZOFFSETFROM:+0200
TZOFFSETTO:+0100
TZNAME:CET
DTSTART:20231029T010000
END:STANDARD
END:VTIMEZONE
BEGIN:VEVENT
DTSTART;TZID=Europe/Berlin:20230520T090000
DTEND;TZID=Europe/Berlin:20230520T160000
DTSTAMP:20260424T155355
CREATED:20221218T180403Z
LAST-MODIFIED:20230331T193049Z
UID:641-1684573200-1684598400@jk-training.de
SUMMARY:Verladetag am 20.05.2023
DESCRIPTION:Verladetag mit Julia und Krissi von „J&K Training für Pferd und Reiter“ am Samstag\, den 20.05.2023. \n  \nDas eigene Pferd sicher und stressfrei zu verladen\, ist für viele ein großer Traum. In der Praxis sehen wir\, dass viele Pferdemenschen große Probleme beim Verladen ihrer Pferde haben. Wir unterstützen bereits seit einigen Jahren Pferdebesitzer dabei\, ihre Tiere an den Anhänger zu gewöhnen und ein sicheres Verladen anzutrainieren. \nAm Seminartag zeigen wir einige Beispiele aus unserer Trainingspraxis der Teilnehmerinnen der letzten Verladetage und ihre Fortschritte in einer kleinen Präsentation. Unser System ist so ausgelegt\, dass jeder zuhause mit seinem eigenen Pferd in dessen Tempo trainieren kann. Am Verladetag zeigen wir dir unsere Technik und die dazugehörenden Bodenarbeitsübungen. Für deine Arbeit zuhause bekommst du von uns eine Schritt- für Schritt-Anleitung mit. Besonders interessant wird an diesem Seminar\, dass wir ein Pferd mit Verladetrauma dabei haben werden\, an dem sich sicher viel lernen lässt. Zur Demonstration der Übungen haben wir unsere eigenen Pferde mit dabei\, so bietet sich die Möglichkeit die ein oder andere Übung direkt mit einem unserer Pferde auszuprobieren. Innerhalb des Seminars ist ausreichend Zeit eingeplant\, um auf individuelle Fragen einzugehen\, die dein eigenes Pferd betreffen. Eingerahmt wir unser Programm von Praktischen Tipps rund ums Fahren mit dem Pferd im Anhänger. Im Unterpunkt Anhängerkunde gehen wir einen Sicherheitscheck durch und zeigen\, wie man einen Anhänger richtig am Zugfahrzeug anbringt. \nAblauf: \n⏰️ Vorstellungsrunde und kleiner Theorieteil \n⏰️ Präsentation Fallbeispiele \n⏰️ Vorübungen für die Bodenarbeit \n🍕 Gemeinsame Mittagspause \n⏰️ Anhängerkunde \n⏰️ Übungen am Anhänger \n⏰️ Pferd ein – und ausladen \n⏰️ Feedback- und Abschlussfragerunde \n  \nAn unserem Verladetag lernst du: \n\nSo zu loben\, dass es beim Pferd ankommt\nDen Einsatz von Atem\, inneren Bildern und Glaubensgrundsätzen\nDie Vorübungen für die Bodenarbeit\nDie Übungen am Anhänger\n\nNach unserem Seminartag bis du fit für die Straße\, kannst das Verladetraining mit deinem Pferd aktiv angehen und hast gelernt\, wie du im Ernstfall reagieren kannst. \nDas Seminar findet auf einem Hof in Prombach / Perlesreut statt. \nWir beginnen um 9:00 Uhr morgens . Für ein kleines Mittagessen bestellen wir bei einem Lieferservice oder du bringst dir selbst was mit. Getränke bitte selbst mitbringen. \nDes Weiteren benötigst du bitte Handschuhe. \nDer Preis für die Teilnahme beträgt 125 Euro. \nAnmeldung und Fragen unter der Email: info@jk-training.de oder unter 0151/70167572 \nWir freuen uns auf Dich! \n  \nJulia & Krissi \n  \n 
URL:http://jk-training.de/event/verladetag-am-20-05-2023/
ORGANIZER;CN="JK-Training":MAILTO:info@jk-training.de
END:VEVENT
BEGIN:VEVENT
DTSTART;TZID=Europe/Berlin:20230527T090000
DTEND;TZID=Europe/Berlin:20230528T160000
DTSTAMP:20260424T155355
CREATED:20221218T175336Z
LAST-MODIFIED:20230331T192914Z
UID:639-1685178000-1685289600@jk-training.de
SUMMARY:Bewusst im Sattel am 27.+28.05.2023
DESCRIPTION:Bewusst im Sattel mit Julia und Krissi von „J&K Training für Pferd und Reiter“ am Samstag und Sonntag\, den 27.+28.05.2023 \nDurch mein (Julia) sportdidaktisches Studium an der Universität Passau wurde mir klar\, dass wir Freizeitreiter viel zu wenig dafür tun\, um unseren Körper aufs Reiten vorzubereiten. Als ich Krissi davon erzählte\, war sie sofort begeistert und uns kamen die Idee Techniken und Übungen zu finden die aus uns bessere Reiter machen sollten. Dieses Seminar beinhaltet unsere Erfahrungen und Erkenntnisse der letzten Jahre und bietet dir die Gelegenheit\, dich als Reiter weiterzuentwickeln. Dabei geht es nicht um Fitness im herkömmlichen Sinn oder darum eine bestimmte Figur zu erreichen. \nDu lernst: \n🧎🏼‍♀️ Deinen Körper besser einzuschätzen \n🧎🏼‍♀️ Schwächen in deinem Reitersitz selbst zu \nerkennen \n🧎🏼‍♀️ Den für dich passenden Reitersitz zu \nfinden \n🧎🏼‍♀️ Dich durch gezielte Übungen aufs \nReiten vorzubereiten \n  \nWir stellen uns den Fragen: \n🤗 Wie nehme ich meinen Körper wahr? \n🤗 Wie kann ich meine \nKörperwahrnehmung verbessern? \n🤗 Wofür brauche ich \nKörperwahrnehmung im Sattel? \n  \nAn Tag eins kommst du zu uns und wir zeigen dir die Übungen für deinen Körper. Nach einem kurzen Theorieteil geht es auch schon an die Übungen. Diese Übungen kann jeder\, seinem Körper entsprechend anwenden\, und das unabhängig deiner körperlichen Fitness oder Ausdauer. Du bleibst in den Übungen immer innerhalb deiner Komfortzone. Am Ende des Tages wirst du einige Dinge etwas klarer sehen und auch verstehen\, warum es so wichtig ist\, deinen Körper im Sattel bewusst wahrzunehmen. \nAn Tag 2 arbeiten wir in einer mobilen Einheit bei dir am Stall daran\, das gelernte im Sattel umzusetzen. Du hast kein passendes Pferd zur Verfügung? Dann schreib uns gerne an und wir versuchen mit dir gemeinsam eine Lösung zu finden. \nDas Seminar findet an Tag eins in Büchlberg statt. Dafür benötigst du nur bequeme Klamotten\, eine Iso-Matte und etwas zu trinken. Wir beginnen um 9:00 Uhr morgens . Da du dich nach der Mittagspause im besten Fall noch bewegen können sollst – wird an diesem Seminar keine Pizza bestellt – sondern die Verpflegung wird von uns gestellt. \nAn Tag zwei kommen wir zu dir in den Stall. Die Zeiten der Einheiten planen wir in einer Tour\, für die du dann einen Termin bekommst. \nDer Preis für die Teilnahme beträgt 199 Euro \nAnmeldung und Fragen unter der Email: info@jk-training.de oder unter 0151/70167572 \nWir freuen uns auf Dich!  \nJulia & Krissi 
URL:http://jk-training.de/event/bewusst-im-sattel-am-27-28-05-2023/
ORGANIZER;CN="JK-Training":MAILTO:info@jk-training.de
END:VEVENT
END:VCALENDAR