BEGIN:VCALENDAR
VERSION:2.0
PRODID:-//J&amp;K - ECPv6.8.3//NONSGML v1.0//EN
CALSCALE:GREGORIAN
METHOD:PUBLISH
X-WR-CALNAME:J&amp;K
X-ORIGINAL-URL:http://jk-training.de
X-WR-CALDESC:Veranstaltungen für J&amp;K
REFRESH-INTERVAL;VALUE=DURATION:PT1H
X-Robots-Tag:noindex
X-PUBLISHED-TTL:PT1H
BEGIN:VTIMEZONE
TZID:Europe/Berlin
BEGIN:DAYLIGHT
TZOFFSETFROM:+0100
TZOFFSETTO:+0200
TZNAME:CEST
DTSTART:20230326T010000
END:DAYLIGHT
BEGIN:STANDARD
TZOFFSETFROM:+0200
TZOFFSETTO:+0100
TZNAME:CET
DTSTART:20231029T010000
END:STANDARD
END:VTIMEZONE
BEGIN:VEVENT
DTSTART;TZID=Europe/Berlin:20230429T090000
DTEND;TZID=Europe/Berlin:20230429T160000
DTSTAMP:20260424T173402
CREATED:20221218T173335Z
LAST-MODIFIED:20230331T194049Z
UID:630-1682758800-1682784000@jk-training.de
SUMMARY:Individualseminar am 29.04.2023
DESCRIPTION:Individualseminar mit Julia und Krissi von „J&K Training für Pferd und Reiter“ am Samstag\, den 29.04.2023 \nWer uns kennt weiß\, dass wir nicht nach Schema F arbeiten\, sondern immer Raum für Kundenwünsche\, Probleme und Anliegen lassen. \nGeplant ist ein Tagesseminar\, bei dem sich die Teilnehmerinnen ganz individuell ihrem persönlichen Trainingsbereich widmen können. \nEs wird jeweils pro Teilnehmerin zwei Einzeleinheiten geben (eine am Vormittag und eine am Nachmittag)\, bei denen du dir aussuchen kannst\, an was du arbeiten willst – oder du lässt dich überraschen und wir empfehlen dir was. \nDu kannst unter anderem Wählen aus: \n\nverschiedenen Bodenarbeitsübungen\nlongieren\nÜbungen der Zirzensik\nGelassenheitstraining\n\nFührzügelarbeit \nZur Einführung ins Seminar gibt’s einen kleinen Theorieteil über die Grundsätze und Lerntheorien im Pferdetraining von uns. \nWer kein eigenes Pferd mitbringen will\, wird von uns als Teilnehmer ohne Pferd voll eingebunden und kann damit viel Input für zu Hause mitnehmen. Außerdem hast du die Möglichkeit\, alle Anliegen\, die ein Pferd betreffen\, mit uns zu besprechen. \nDas Seminar findet auf einem Hof in Tiefenbach / Passau statt. Durch eine Reithalle sind wir wetterunabhängig. Für jedes Gastpferd ist ein Paddock mit Wasser und Heu abgezäunt\, so dass kleine Ruhepausen eingelegt werden können. \nWir beginnen um 9:00 Uhr morgens . Für ein kleines Mittagessen bestellen wir bei einem Lieferservice oder du bringst dir selbst was mit. Getränke bitte selbst mitbringen. \nPreis für \nTeilnehmer mit Pferd 149 Euro\nTeilnehmer ohne Pferd 95 Euro \nAnmeldung und Fragen unter der Email: info@jk-training.de oder unter 0151/70167572 \nWir freuen uns auf Dich! \nJulia & Krissi
URL:http://jk-training.de/event/individualseminar-am-29-04-2023/
ORGANIZER;CN="JK-Training":MAILTO:info@jk-training.de
END:VEVENT
END:VCALENDAR