BEGIN:VCALENDAR
VERSION:2.0
PRODID:-//J&amp;K - ECPv6.8.3//NONSGML v1.0//EN
CALSCALE:GREGORIAN
METHOD:PUBLISH
X-ORIGINAL-URL:http://jk-training.de
X-WR-CALDESC:Veranstaltungen für J&amp;K
REFRESH-INTERVAL;VALUE=DURATION:PT1H
X-Robots-Tag:noindex
X-PUBLISHED-TTL:PT1H
BEGIN:VTIMEZONE
TZID:Europe/Berlin
BEGIN:DAYLIGHT
TZOFFSETFROM:+0100
TZOFFSETTO:+0200
TZNAME:CEST
DTSTART:20220327T010000
END:DAYLIGHT
BEGIN:STANDARD
TZOFFSETFROM:+0200
TZOFFSETTO:+0100
TZNAME:CET
DTSTART:20221030T010000
END:STANDARD
END:VTIMEZONE
BEGIN:VEVENT
DTSTART;TZID=Europe/Berlin:20221001T090000
DTEND;TZID=Europe/Berlin:20221001T160000
DTSTAMP:20260425T035618
CREATED:20220816T100504Z
LAST-MODIFIED:20220816T101622Z
UID:575-1664614800-1664640000@jk-training.de
SUMMARY:Grundlagen der Zirzensik
DESCRIPTION:Zirzensik ist das Training natürlicher Körperhaltungen und Bewegungen\, die gymnastizierend\, kräftigenden und motivierend wirken können. \nGeplant ist ein Tagesseminar\, das sich am Stand der Teilnehmer orientiert und Raum für Ideen und aktiven Austausch lässt. \nWir arbeiten mit Knotenhalfter\, Kappzaum\, Bodenarbeitsseil\, Longe und Gerte an verschiedenen Übungen und Hindernissen. Dazu brauchst du viele gute Leckerlies und ganze Karotten \nFolgende Übungen sind geplant: Zirkeln\, Rückwärts auf dich zu\, Alevolt\, Pliet\, Kompliment. \nFür jedes Gastpferd ist ein Paddock mit Wasser und Heu abgezäunt\, so dass kleine Ruhepausen eingelegt werden können. Wer kein eigenes Pferd mitbringen will\, darf sich gerne eine unserer Stuten ausleihen. \nWir beginnen um 9:00 Uhr morgens. Für ein kleines Mittagessen bestellen wir bei einem Lieferservice oder du bringst dir selbst was mit. Getränke bitte selbst mitbringen. Das Seminar findet in 94065 Lämmersreut / Waldkirchen statt. Falls uns das Wetter einen Strich durch die Rechnung macht\, können wir auf eine Reithalle ausweichen. \nPreis für Teilnehmer mit Pferd 149 € (inkl. Verpflegung und Paddock fürs Pferd)\nTeilnahme ohne Pferd 80 €
URL:http://jk-training.de/event/grundlagen-der-zirzensik/
CATEGORIES:Bodenarbeit
ATTACH;FMTTYPE=image/jpeg:http://jk-training.de/wp-content/uploads/2022/08/OF_0552-pferd-YvonneObermuellerFotografie-Bearbeitet-1.jpg
END:VEVENT
BEGIN:VEVENT
DTSTART;TZID=Europe/Berlin:20221022T090000
DTEND;TZID=Europe/Berlin:20221022T160000
DTSTAMP:20260425T035618
CREATED:20220816T101508Z
LAST-MODIFIED:20220816T101508Z
UID:582-1666429200-1666454400@jk-training.de
SUMMARY:Grundlagen der Bodenarbeit
DESCRIPTION:Wer uns kennt weiß\, dass wir absolute Bodenarbeitsfans sind. Unser Trainingskonzept fußt darauf\, Übungen vom Boden aus zu erarbeiten. Nicht nur als Vorbereitung aufs Reiten\, viel mehr als stabile Konstante im Trainingsalltag. \n  \nGeplant ist ein Tagesseminar\, das sich am Stand der Teilnehmer orientiert und Raum für Ideen und aktiven Austausch lässt. \n  \nWir arbeiten mit Knotenhalfter\, Bodenarbeitsseil und Gerte an verschiedenen Übungen und Hindernissen und stärken damit die Verbindung zwischen dir und deinem Pferd. \n  \nNach unserem Seminar wirst du: \n– Besser mit deinem Pferd kommunizieren können \n– Neue Inspiration für dein Training Zuhause haben \n– Sicherer im Umgang mit deinem Pferd sein \n– Dein Pferd besser einschätzen können \n  \nDein Pferd wird: \n– Sich dir leichter öffnen \n– Besser zuhören wollen \n– Mehr Motivation zeigen \n– Dich besser verstehen \nFür jedes Gastpferd ist ein Paddock mit Wasser und Heu abgezäunt\, so dass kleine Ruhepausen eingelegt werden können. Wer kein eigenes Pferd mitbringen will\, darf sich gerne eine unserer Stuten ausleihen. \nWir beginnen um 9:00 Uhr morgens. Für ein kleines Mittagessen bestellen wir bei einem Lieferservice oder du bringst dir selbst was mit. Getränke bitte selbst mitbringen. Das Seminar findet in 94163 Saldenburg/Preying statt. Der Veranstaltungsort ist ein schön gelegener Wiesenreitplatz\, den man sehr gut mit dem Hängern anfahren kann. Leider macht uns das auch etwas Wetterabhängig. Wenn nötig könne wir auf eine Reithalle ausweichen. \n  \nPreis für Teilnehmer mit Pferd 149 € (inkl. Verpflegung und Paddock fürs Pferd) \nTeilnahme ohne Pferd 80 € \n 
URL:http://jk-training.de/event/grundlagen-der-bodenarbeit/
ATTACH;FMTTYPE=image/jpeg:http://jk-training.de/wp-content/uploads/2022/08/OF_0496-pferd-YvonneObermuellerFotografie-Bearbeitet-scaled.jpg
END:VEVENT
END:VCALENDAR