BEGIN:VCALENDAR
VERSION:2.0
PRODID:-//J&amp;K - ECPv6.8.3//NONSGML v1.0//EN
CALSCALE:GREGORIAN
METHOD:PUBLISH
X-WR-CALNAME:J&amp;K
X-ORIGINAL-URL:http://jk-training.de
X-WR-CALDESC:Veranstaltungen für J&amp;K
REFRESH-INTERVAL;VALUE=DURATION:PT1H
X-Robots-Tag:noindex
X-PUBLISHED-TTL:PT1H
BEGIN:VTIMEZONE
TZID:Europe/Berlin
BEGIN:DAYLIGHT
TZOFFSETFROM:+0100
TZOFFSETTO:+0200
TZNAME:CEST
DTSTART:20240331T010000
END:DAYLIGHT
BEGIN:STANDARD
TZOFFSETFROM:+0200
TZOFFSETTO:+0100
TZNAME:CET
DTSTART:20241027T010000
END:STANDARD
END:VTIMEZONE
BEGIN:VEVENT
DTSTART;TZID=Europe/Berlin:20241005T090000
DTEND;TZID=Europe/Berlin:20241005T160000
DTSTAMP:20260423T123515
CREATED:20240508T185542Z
LAST-MODIFIED:20240508T185752Z
UID:791-1728118800-1728144000@jk-training.de
SUMMARY:Gelassenheitstraining
DESCRIPTION:Gelassenheitstraining mit Julia und Krissi von „J&K Training für Pferd und Reiter“ am Samstag\, den 05.10.2024\n\n\n\nHerausfordernde Situationen begegnen uns im Pferdealltag regelmäßig. So kann zum Beispiel der Weg zur Weide in einem wahren Spielroutenlauf enden\, wenn sich etwas am gewohnten Umfeld verändert hat. Ein am Boden liegender Müllsack hat schon so manches Pferd aus der Fassung gebracht. In diesen Situationen ist es wichtig\, dass die Person am andern Ende des Stricks weiß\, wie sie reagieren kann\, um die Situation zu entschärfen.\nFür uns macht es Sinn\, herausfordernde Situationen in der Bodenarbeit zu üben\, um sich und auch das Pferd zu schulen.\n\nGeplant ist ein Tagesseminar\, das sich am Stand der Teilnehmer orientiert und dir und deinem Pferd den Raum bietet\, euch gemeinsam zu entwickeln.\n\nWir arbeiten mit Knotenhalfter\, Bodenarbeitsseil und Gerte an verschiedenen Übungen.\n\n\nDie Übungen bestehen unter anderem aus:\n Flatterband Plane Rappelsack Schwimmnudeln Gymnastikbällen\n\nNach diesem Seminar kannst du:\n Dein Pferd besser einschätzen Situationen gelassener meistern Gelassenheitstraining in denenTrainingsalltag integrieren\n\nTeilnehmerinnen\, die ohne eigenes Pferd am Seminar teilnehmen wollen\, binden wird aktiv in die Einheiten mit ein. So besteht immer die Möglichkeit\, Fragen zu stellen und eigene Themen besprechen.\n\nDas Seminar findet in Waldkirchen statt.\n\nFür jedes Gastpferd steht eine Box/Paddock inkl. Verpflegung zur Verfügung\, so dass kleine Ruhepausen eingelegt werden können.\n\nWir beginnen um 9:00 Uhr morgens . Einen kleinen vegetarischen Mittagssnack stellen wir zur Verfügung (deswegen bitte bei Anmeldung Rückmeldung geben wg. Evtl. Unverträglichkeiten) oder du bringst dir selbst was mit. Getränke bitte selbst mitbringen.\n\nPreis für\nTeilnehmer mit Pferd 149 EuroTeilnehmer ohne Pferd 95 Euro\n\nWir freuen uns auf Dich!\nJulia & Krissi
URL:http://jk-training.de/event/gelassenheitstraining/
ORGANIZER;CN="JK-Training":MAILTO:info@jk-training.de
END:VEVENT
END:VCALENDAR