BEGIN:VCALENDAR
VERSION:2.0
PRODID:-//J&amp;K - ECPv6.8.3//NONSGML v1.0//EN
CALSCALE:GREGORIAN
METHOD:PUBLISH
X-ORIGINAL-URL:http://jk-training.de
X-WR-CALDESC:Veranstaltungen für J&amp;K
REFRESH-INTERVAL;VALUE=DURATION:PT1H
X-Robots-Tag:noindex
X-PUBLISHED-TTL:PT1H
BEGIN:VTIMEZONE
TZID:Europe/Berlin
BEGIN:DAYLIGHT
TZOFFSETFROM:+0100
TZOFFSETTO:+0200
TZNAME:CEST
DTSTART:20230326T010000
END:DAYLIGHT
BEGIN:STANDARD
TZOFFSETFROM:+0200
TZOFFSETTO:+0100
TZNAME:CET
DTSTART:20231029T010000
END:STANDARD
END:VTIMEZONE
BEGIN:VEVENT
DTSTART;TZID=Europe/Berlin:20231028T090000
DTEND;TZID=Europe/Berlin:20231028T160000
DTSTAMP:20260424T074247
CREATED:20221217T212258Z
LAST-MODIFIED:20230331T192023Z
UID:618-1698483600-1698508800@jk-training.de
SUMMARY:Grundlagen der Bodenarbeit am 28.10.2023
DESCRIPTION:Grundlagen der Bodenarbeit mit Julia und Krissi von „J&K Training für Pferd und Reiter“ am Samstag\, den 28.10.2023 \nWer uns kennt\, der weiß\, dass wir absolute Fans der Bodenarbeit sind. Unser Trainingskonzept fußt darauf\, Übungen vom Boden aus zu erarbeiten. Nicht nur als Vorbereitung aufs Reiten\, sondern auch als stabile Konstante im Trainingsalltag. In diesem Seminar zeigen wir dir Übungen\, die leicht umzusetzen sind und sich damit perfekt für deinen Einstieg in die Bodenarbeit eignen. Geplant ist ein Tagesseminar\, das sich am Stand der Teilnehmer orientiert und Raum für Ideen und aktiven Austausch lässt. \nNeben jeweils einer Vormittags- und einer Nachmittagseinheit ‘Praxis mit Pferd’ gibt es zur Einführung einen kleinen Theorieteil und zum Abschluss eine Feedback- und Abschlussfragerunde. \n  \n🐴 Dein Start in die Bodenarbeit \n🐴 Lerne mit deinem Pferd zu \nkommunizieren \n🐴 Entdecke eine neue Seite an dir und \ndeinem Pferd \n🐴 Sammle Inspirationen für deinen \nTrainingsalltag \n  \nWir arbeiten mit Knotenhalfter\, Bodenarbeitsseil und Gerte. Wer will darf gerne Leckerlis als Belohnung mitbringen. \nDas Seminar eignet sich für jedes Pferd und jeden Menschen. Vom Einsteiger bis zum Rentner hatten wir auf diesem Seminar schon alles dabei und haben großartige Rückmeldungen erhalten. \nFür Teilnehmerinnen\, die ohne eigenes Pferd kommen\, bringen wir unsere Pferde mit. So besteht die Möglichkeit\, das gelernte Wissen auch direkt auszuprobieren. In verschiedenen Fragerunden können die Herausforderungen mit dem einen Pferd besprochen werden. Außerdem binden wir die Teilnehmer ohne Pferd aktiv in den Ablauf mit ein. Sodass du richtig viel Input mit nachhause nehmen kannst. \nDas Seminar findet in Eberhardsberg bei 94124 Büchlberg statt. Durch die Reithalle sind wir vom Wetter unabhängig. \nFür Gastpferde kann eine Box (10€ pro Tag) zugebucht werden. So können auch kleine Ruhepausen eingelegt werden. Wer mit seinem Pferd früher anreisen möchte oder länger bleiben will\, kann eine Box incl. Ausmisten und Füttern für 20€ mieten. \nWir beginnen um 9:30 Uhr morgens . Für ein kleines Mittagessen bestellen wir bei einem Lieferservice oder du bringst dir selbst was mit. Getränke bitte selbst mitbringen. \n  \nPreis für \nTeilnehmer mit Pferd 149 Euro\nTeilnehmer ohne Pferd 95 Euro \n  \nAnmeldung und Fragen unter der Email: info@jk-training.de oder unter 0151/70167572 \nWir freuen uns auf Dich! \nJulia & Krissi \n 
URL:http://jk-training.de/event/grundlagen-der-bodenarbeit-am-28-10-2023/
CATEGORIES:Bodenarbeit
ORGANIZER;CN="JK-Training":MAILTO:info@jk-training.de
END:VEVENT
END:VCALENDAR