BEGIN:VCALENDAR
VERSION:2.0
PRODID:-//J&amp;K - ECPv6.8.3//NONSGML v1.0//EN
CALSCALE:GREGORIAN
METHOD:PUBLISH
X-ORIGINAL-URL:http://jk-training.de
X-WR-CALDESC:Veranstaltungen für J&amp;K
REFRESH-INTERVAL;VALUE=DURATION:PT1H
X-Robots-Tag:noindex
X-PUBLISHED-TTL:PT1H
BEGIN:VTIMEZONE
TZID:Europe/Berlin
BEGIN:DAYLIGHT
TZOFFSETFROM:+0100
TZOFFSETTO:+0200
TZNAME:CEST
DTSTART:20230326T010000
END:DAYLIGHT
BEGIN:STANDARD
TZOFFSETFROM:+0200
TZOFFSETTO:+0100
TZNAME:CET
DTSTART:20231029T010000
END:STANDARD
END:VTIMEZONE
BEGIN:VEVENT
DTSTART;TZID=Europe/Berlin:20231014T090000
DTEND;TZID=Europe/Berlin:20231014T160000
DTSTAMP:20260424T091325
CREATED:20221217T213055Z
LAST-MODIFIED:20230331T192134Z
UID:620-1697274000-1697299200@jk-training.de
SUMMARY:Zirzensik-Seminar am 14.10.2023
DESCRIPTION:Zirzensik-Seminar mit Julia und Krissi von „J&K Training für Pferd und Reiter“ am Samstag\, den 14.10.2023 \nZirzensik ist das Training natürlicher Körperhaltungen und Bewegungen\, die gymnastizierend\, kräftigenden und motivierend wirken sollen. \nFür uns sind diese Übungen nicht nur eine großartige Abwechslung im Trainingsalltag\, sondern auch die perfekte Kombination aus Fitness und Spaß\, um unsere Pferde gesund zu erhalten. \n  \nAblauf: \n⏰️ Gemeinsamer Theorieteil \n(Zirzensik im Trainingsalltag\, Einsatz von Lob und \nFutterlob) \n⏰️ Vorführung der Lektionen \n⏰️ Praxiseinheit mit Pferd \n🍕 Gemeinsame Mittagspause \n⏰️ Vorführung der Lektionen \n⏰️ Praxiseinheit mit Pferd \n⏰️ Gemeinsames Feedback- und \nAbschlussfragerunde \n  \nWir arbeiten mit Knotenhalfter\, Kappzaum\, Bodenarbeitsseil\, Longe und Gerte an verschiedenen Übungen. Dazu brauchst du viele gute Leckerlies und ganze Karotten \nDas Niveau der einzelnen Übungen lässt sich an den Ausbildungsstand deines Pferdes anpassen. Auch absolute Neulinge auf dem Gebiet der Zirzensik sind uns herzlich willkommen. \nFür dieses Seminar ist es wichtig\, dass dein Pferd in einem guten gesundheitlichen Zustand ist. Solltest du dir nicht sicher sein\, ob das Seminar für dich und dein Pferd geeignet ist\, melde dich gerne bei uns. \nFür unsere Teilnehmerinnen ohne Pferd besteht die Möglichkeit mit einem unserer Pferde die ein oder andere Lektion auszuprobieren. Aus den Rückmeldungen des letzten Seminars wissen wir\, dass die Teilnehmerinnen das erlernte Wissen gut zuhause an ihren eigenen Pferden anwenden konnten. Für Fragen\, die dein Pferd zuhause betreffen\, ist im Seminarablauf ausreichend Zeit eingeplant\, so dass du viel Input mitnehmen kannst. \nDas Seminar findet in Eberhardsberg / Büchlberg statt. Durch die Reithalle sind wir vom Wetter unabhängig. \nFür Gastpferde kann eine Box (10€) zugebucht werden\, so dass kleine Ruhepausen eingelegt werden können. Wer mit seinem Pferd früher anreisen möchte oder länger bleiben will\, kann eine Box incl. misten und Futter für 20€ mieten. \nWir beginnen um 9:00 Uhr morgens . Für ein kleines Mittagessen bestellen wir bei einem Lieferservice oder du bringst dir selbst was mit. Getränke bitte selbst mitbringen. \nPreis für \nTeilnehmer mit Pferd 149 Euro \nTeilnehmer ohne Pferd 95 Euro \nAnmeldung und Fragen unter der Email: info@jk-training.de oder unter 0151/70167572 \nWir freuen uns auf Dich! \nJulia & Krissi \n 
URL:http://jk-training.de/event/zirzensik-seminar-am-14-10-2023/
ORGANIZER;CN="JK-Training":MAILTO:info@jk-training.de
END:VEVENT
END:VCALENDAR