BEGIN:VCALENDAR
VERSION:2.0
PRODID:-//J&amp;K - ECPv6.8.3//NONSGML v1.0//EN
CALSCALE:GREGORIAN
METHOD:PUBLISH
X-WR-CALNAME:J&amp;K
X-ORIGINAL-URL:http://jk-training.de
X-WR-CALDESC:Veranstaltungen für J&amp;K
REFRESH-INTERVAL;VALUE=DURATION:PT1H
X-Robots-Tag:noindex
X-PUBLISHED-TTL:PT1H
BEGIN:VTIMEZONE
TZID:Europe/Berlin
BEGIN:DAYLIGHT
TZOFFSETFROM:+0100
TZOFFSETTO:+0200
TZNAME:CEST
DTSTART:20230326T010000
END:DAYLIGHT
BEGIN:STANDARD
TZOFFSETFROM:+0200
TZOFFSETTO:+0100
TZNAME:CET
DTSTART:20231029T010000
END:STANDARD
END:VTIMEZONE
BEGIN:VEVENT
DTSTART;TZID=Europe/Berlin:20230916T090000
DTEND;TZID=Europe/Berlin:20230916T160000
DTSTAMP:20260424T110855
CREATED:20221218T174453Z
LAST-MODIFIED:20230331T192328Z
UID:635-1694854800-1694880000@jk-training.de
SUMMARY:Gelassenheitstraining am 16.09.2023
DESCRIPTION:Gelassenheitstraining mit Julia und Krissi von „J&K Training für Pferd und Reiter“ am Samstag\, den 16.09.2023 \nHerausfordernde Situationen begegnen uns im Pferdealltag regelmäßig. So kann zum Beispiel der Weg zur Weide in einem wahren Spielroutenlauf enden\, wenn sich etwas am gewohnten Umfeld verändert hat. Ein am Boden liegender Müllsack hat schon so manches Pferd aus der Fassung gebracht. In diesen Situationen ist es wichtig\, dass die Person am andern Ende des Stricks weiß\, wie sie reagieren kann\, um die Situation zu entschärfen. \nFür uns macht es Sinn\, herausfordernde Situationen in der Bodenarbeit zu üben\, um sich und auch das Pferd zu schulen. \nGeplant ist ein Tagesseminar\, das sich am Stand der Teilnehmer orientiert und dir und deinem Pferd den Raum bietet\, euch gemeinsam zu entwickeln. \nWir arbeiten mit Knotenhalfter\, Bodenarbeitsseil und Gerte an verschiedenen Übungen. \nDie Übungen bestehen unter anderem aus: \n\n Flatterband\n Plane\n Rappelsack\n Schwimmnudeln\n Gymnastikbällen\n\n  \nNach diesem Seminar kannst du: \n🐴 Dein Pferd besser einschätzen \n🐴 Situationen gelassener meistern \n🐴 Gelassenheitstraining in denen \nTrainingsalltag integrieren \n  \nTeilnehmerinnen\, die ohne eigenes Pferd am Seminar teilnehmen wollen\, binden wird aktiv in die Einheiten mit ein. So besteht immer die Möglichkeit\, Fragen zu stellen und eigene Themen besprechen. \nDas Seminar findet in Eberhardsberg / Büchlberg statt. Durch die Reithalle sind wir vom Wetter unabhängig. \nFür Gastpferde kann eine Box (10€) zugebucht werden\, so dass kleine Ruhepausen eingelegt werden können. Wer mit seinem Pferd früher anreisen möchte oder länger bleiben will\, kann eine Box incl. misten und Futter für 20€ mieten. \nWir beginnen um 9:00 Uhr morgens . Für ein kleines Mittagessen bestellen wir bei einem Lieferservice oder du bringst dir selbst was mit. Getränke bitte selbst mitbringen. \nPreis für \nTeilnehmer mit Pferd 149 Euro\nTeilnehmer ohne Pferd 95 Euro \nAnmeldung und Fragen unter der Email: info@jk-training.de oder unter 0151/70167572 \nWir freuen uns auf Dich! \nJulia & Krissi \n  \n 
URL:http://jk-training.de/event/gelassenheitstraining-am-16-09-2023/
ORGANIZER;CN="JK-Training":MAILTO:info@jk-training.de
END:VEVENT
END:VCALENDAR