BEGIN:VCALENDAR
VERSION:2.0
PRODID:-//J&amp;K - ECPv6.8.3//NONSGML v1.0//EN
CALSCALE:GREGORIAN
METHOD:PUBLISH
X-WR-CALNAME:J&amp;K
X-ORIGINAL-URL:http://jk-training.de
X-WR-CALDESC:Veranstaltungen für J&amp;K
REFRESH-INTERVAL;VALUE=DURATION:PT1H
X-Robots-Tag:noindex
X-PUBLISHED-TTL:PT1H
BEGIN:VTIMEZONE
TZID:Europe/Berlin
BEGIN:DAYLIGHT
TZOFFSETFROM:+0100
TZOFFSETTO:+0200
TZNAME:CEST
DTSTART:20230326T010000
END:DAYLIGHT
BEGIN:STANDARD
TZOFFSETFROM:+0200
TZOFFSETTO:+0100
TZNAME:CET
DTSTART:20231029T010000
END:STANDARD
END:VTIMEZONE
BEGIN:VEVENT
DTSTART;TZID=Europe/Berlin:20230305T160000
DTEND;TZID=Europe/Berlin:20230305T173000
DTSTAMP:20260424T203358
CREATED:20221217T214854Z
LAST-MODIFIED:20221217T214854Z
UID:626-1678032000-1678037400@jk-training.de
SUMMARY:Webinar 05.03.2023
DESCRIPTION:Als Freizeitreiterinnen sind wir viel im Gelände unterwegs und beschäftigen uns mit den Themen Geländesicherheit und Geländetraining. Mit den Mitgliedern unserer mobilen Trainingsfamilie halten wir regelmäßig Gelände-Einheiten ab und haben daher nicht nur eine Menge Erfahrung\, sondern auch viele anschauliche Beispiele\, von denen wir erzählen. Auf Wunsch einer Teilnehmerin aus unserem letzten Webinar im Jahr 2022 „Sicher im Gelände“ geht es an diesem Tag überwiegend um Übungen im Gelände. So wird auch dieses Webinar wie gewohnt locker und unterhaltsam gestaltet. Ebenfalls haben wir wieder eine anschauliche Präsentation\, die das Programm einrahmt. \nDas Webinar findet am Sonntag\, den 05.03.2023 um 16:00 Uhr statt\, Dauer ca. 90 Minuten. Thema: Trainingsideen fürs Gelände \nPreis 15 Euro \nWenn du Lust hast\, dabei zu sein melde dich gerne bei uns  unter: info@jk-training.de oder auf einem unserer Social-Media-Kanäle. \nDas Webinar findet virtuell statt. Über einen Link\, den wir dir zusenden kannst du bequem von zuhause aus teilnehmen. \nEin passendes Liveseminar mit dem Titel „Unterwegs im Gelände“ bieten wir am 15.07.2023 an. Hier vereinen wir die Inhalte der beiden Webinare „Sicher im Gelände“ und „Trainingsideen fürs Gelände“ und nehmen euch mit auf eine unserer Trainingstouren. \nAnmeldung und Fragen unter der Email: info@jk-training.de oder unter 0151/70167572 \nWir freuen uns auf Dich! \nJulia & Krissi
URL:http://jk-training.de/event/webinar-05-03-2023/
ORGANIZER;CN="JK-Training":MAILTO:info@jk-training.de
END:VEVENT
END:VCALENDAR